BEGIN:VCALENDAR
VERSION:2.0
PRODID:-//Visual Art Society Bryan-College Station - ECPv6.15.20//NONSGML v1.0//EN
CALSCALE:GREGORIAN
METHOD:PUBLISH
X-ORIGINAL-URL:https://www.visualartsociety.org
X-WR-CALDESC:Events for Visual Art Society Bryan-College Station
REFRESH-INTERVAL;VALUE=DURATION:PT1H
X-Robots-Tag:noindex
X-PUBLISHED-TTL:PT1H
BEGIN:VTIMEZONE
TZID:America/Chicago
BEGIN:DAYLIGHT
TZOFFSETFROM:-0600
TZOFFSETTO:-0500
TZNAME:CDT
DTSTART:20240310T080000
END:DAYLIGHT
BEGIN:STANDARD
TZOFFSETFROM:-0500
TZOFFSETTO:-0600
TZNAME:CST
DTSTART:20241103T070000
END:STANDARD
BEGIN:DAYLIGHT
TZOFFSETFROM:-0600
TZOFFSETTO:-0500
TZNAME:CDT
DTSTART:20250309T080000
END:DAYLIGHT
BEGIN:STANDARD
TZOFFSETFROM:-0500
TZOFFSETTO:-0600
TZNAME:CST
DTSTART:20251102T070000
END:STANDARD
BEGIN:DAYLIGHT
TZOFFSETFROM:-0600
TZOFFSETTO:-0500
TZNAME:CDT
DTSTART:20260308T080000
END:DAYLIGHT
BEGIN:STANDARD
TZOFFSETFROM:-0500
TZOFFSETTO:-0600
TZNAME:CST
DTSTART:20261101T070000
END:STANDARD
END:VTIMEZONE
BEGIN:VEVENT
DTSTART;TZID=America/Chicago:20250413T235800
DTEND;TZID=America/Chicago:20250413T235900
DTSTAMP:20260421T234616
CREATED:20250117T215312Z
LAST-MODIFIED:20250328T000705Z
UID:5981-1744588680-1744588740@www.visualartsociety.org
SUMMARY:EXTENDED Deadline for VAS Spring Judged Show: April 13\, 2025
DESCRIPTION:The Visual Art Society of B-CS invites submissions to “All Things Bright & Beautiful”. Our spring judged show will be on display at Degallery April 18 – May 16\, 2025\, and is open to all artists. We accept works from emerging\, mid-career\, and/or professional artists. \nAcceptable mediums include Acrylic\, Charcoal\, Collage\, Color Pencil\, Computer Art\, Digital Art\, Digital Photography\, Drawings\, Fiber Arts\, Glass Art\, Graphite\, Gouache\, Illustration\, Mixed Media\, New Media\, Oil\, Pastel\, Pen and Ink\, Printmaking\, Sculpture\, Studio Fine Crafts\, Traditional Photography\, or Watercolor and others.  We have a new category – AI-mediated art. \nAll submissions must be family-friendly and meet the general theme of the show. Entries cannot have been exhibited in a previous Visual Art Society or Brazos Valley Art League show. \nFor more information\, visit the Call for Entry. Please be sure you submit on time.
URL:https://www.visualartsociety.org/event/deadline-for-vas-spring-show-2025/
LOCATION:Virtual
CATEGORIES:calls for entry,meetings,reminders,shows
ATTACH;FMTTYPE=image/jpeg:https://www.visualartsociety.org/wp-content/uploads/2025/03/thin-pic-scaled.jpg
END:VEVENT
BEGIN:VEVENT
DTSTART;TZID=America/Chicago:20250418T180000
DTEND;TZID=America/Chicago:20250418T200000
DTSTAMP:20260421T234616
CREATED:20250406T212603Z
LAST-MODIFIED:20250406T215957Z
UID:6239-1744999200-1745006400@www.visualartsociety.org
SUMMARY:Opening Reception: VAS Spring Judged Show 2025
DESCRIPTION:Join us for the Opening Reception for our VAS Spring Judged Art Show\, “All Things Bright & Beautiful” at Degallery\, Friday\, April 18\, 2025  6-8pm.  Everyone is invited to attend. Come see the wide range of incredible art from local artists! Great refreshments! Free and open to the public! Vote for your favorite art.  Do you agree with the judges?  The show runs from April 18 – May 16\, 2025.
URL:https://www.visualartsociety.org/event/reception-judged-show-2025/
LOCATION:DEGALLERY\, 930 N Rosemary Dr.\, Bryan\, TX\, 77802\, United States
CATEGORIES:receptions,shows
ATTACH;FMTTYPE=image/jpeg:https://www.visualartsociety.org/wp-content/uploads/2025/04/All-things-bright-reception-scaled.jpg
END:VEVENT
END:VCALENDAR