BEGIN:VCALENDAR
VERSION:2.0
PRODID:-//Visual Art Society Bryan-College Station - ECPv6.15.20//NONSGML v1.0//EN
CALSCALE:GREGORIAN
METHOD:PUBLISH
X-WR-CALNAME:Visual Art Society Bryan-College Station
X-ORIGINAL-URL:https://www.visualartsociety.org
X-WR-CALDESC:Events for Visual Art Society Bryan-College Station
REFRESH-INTERVAL;VALUE=DURATION:PT1H
X-Robots-Tag:noindex
X-PUBLISHED-TTL:PT1H
BEGIN:VTIMEZONE
TZID:America/Chicago
BEGIN:DAYLIGHT
TZOFFSETFROM:-0600
TZOFFSETTO:-0500
TZNAME:CDT
DTSTART:20230312T080000
END:DAYLIGHT
BEGIN:STANDARD
TZOFFSETFROM:-0500
TZOFFSETTO:-0600
TZNAME:CST
DTSTART:20231105T070000
END:STANDARD
BEGIN:DAYLIGHT
TZOFFSETFROM:-0600
TZOFFSETTO:-0500
TZNAME:CDT
DTSTART:20240310T080000
END:DAYLIGHT
BEGIN:STANDARD
TZOFFSETFROM:-0500
TZOFFSETTO:-0600
TZNAME:CST
DTSTART:20241103T070000
END:STANDARD
BEGIN:DAYLIGHT
TZOFFSETFROM:-0600
TZOFFSETTO:-0500
TZNAME:CDT
DTSTART:20250309T080000
END:DAYLIGHT
BEGIN:STANDARD
TZOFFSETFROM:-0500
TZOFFSETTO:-0600
TZNAME:CST
DTSTART:20251102T070000
END:STANDARD
END:VTIMEZONE
BEGIN:VEVENT
DTSTART;TZID=America/Chicago:20240420T235800
DTEND;TZID=America/Chicago:20240420T235900
DTSTAMP:20260422T143211
CREATED:20240121T232911Z
LAST-MODIFIED:20240409T194018Z
UID:4539-1713657480-1713657540@www.visualartsociety.org
SUMMARY:"Art in Bloom" Entry Deadline: April 20\, 2024
DESCRIPTION:CALL FOR ENTRY DEADLINE – April 20\, 2024 (extended)\nThe Visual Art Society of B-CS invites submissions to our 2024 annual spring judged show\, “Art in Bloom – A Feast for the Senses\,” celebrates the relationship between art and nature in all its forms. How have you been inspired by the natural world to create works of art that reflect the beauty of nature? The show runs April 26 – June 28\, 2024\, and is open to all artists. We accept works from emerging\, mid-career\, and/or professional artists. \nAcceptable mediums include Acrylic\, Charcoal\, Collage\, Color Pencil\, Computer Art\, Digital Art\, Digital Photography\, Drawings\, Fiber Arts\, Glass Art\, Graphite\, Gouache\, Illustration\, Mixed Media\, New Media\, Oil\, Pastel\, Pen and Ink\, Printmaking\, Sculpture\, Studio Fine Crafts\, Traditional Photography\, or Watercolor and others. \nAll submissions must be family-friendly. Entries cannot have been exhibited in a previous Visual Art Society or Brazos Valley Art League show. \nAll artists are welcome to submit\, but if you are a member\, you will have a reduced entry fee. \nMore information: https://www.visualartsociety.org/2024-judged-show-art-in-bloom/
URL:https://www.visualartsociety.org/event/art-in-bloom-entry-deadline/
LOCATION:Virtual
CATEGORIES:calls for entry
ATTACH;FMTTYPE=image/jpeg:https://www.visualartsociety.org/wp-content/uploads/2024/01/Judged-Show-skinny-2024-scaled.jpg
END:VEVENT
END:VCALENDAR