BEGIN:VCALENDAR
VERSION:2.0
PRODID:-//Visual Art Society Bryan-College Station - ECPv6.15.20//NONSGML v1.0//EN
CALSCALE:GREGORIAN
METHOD:PUBLISH
X-WR-CALNAME:Visual Art Society Bryan-College Station
X-ORIGINAL-URL:https://www.visualartsociety.org
X-WR-CALDESC:Events for Visual Art Society Bryan-College Station
REFRESH-INTERVAL;VALUE=DURATION:PT1H
X-Robots-Tag:noindex
X-PUBLISHED-TTL:PT1H
BEGIN:VTIMEZONE
TZID:America/Chicago
BEGIN:DAYLIGHT
TZOFFSETFROM:-0600
TZOFFSETTO:-0500
TZNAME:CDT
DTSTART:20220313T080000
END:DAYLIGHT
BEGIN:STANDARD
TZOFFSETFROM:-0500
TZOFFSETTO:-0600
TZNAME:CST
DTSTART:20221106T070000
END:STANDARD
BEGIN:DAYLIGHT
TZOFFSETFROM:-0600
TZOFFSETTO:-0500
TZNAME:CDT
DTSTART:20230312T080000
END:DAYLIGHT
BEGIN:STANDARD
TZOFFSETFROM:-0500
TZOFFSETTO:-0600
TZNAME:CST
DTSTART:20231105T070000
END:STANDARD
BEGIN:DAYLIGHT
TZOFFSETFROM:-0600
TZOFFSETTO:-0500
TZNAME:CDT
DTSTART:20240310T080000
END:DAYLIGHT
BEGIN:STANDARD
TZOFFSETFROM:-0500
TZOFFSETTO:-0600
TZNAME:CST
DTSTART:20241103T070000
END:STANDARD
END:VTIMEZONE
BEGIN:VEVENT
DTSTART;TZID=America/Chicago:20230123T080000
DTEND;TZID=America/Chicago:20230406T170000
DTSTAMP:20260423T155436
CREATED:20230122T024046Z
LAST-MODIFIED:20230122T033346Z
UID:2713-1674460800-1680800400@www.visualartsociety.org
SUMMARY:Call for Art
DESCRIPTION:CALL FOR ENTRY\n\n\n\nLocal Inspiration \n\n\n\nWe celebrate 50 years of promoting visual art and local artists in our community with our spring show theme that is a celebration of places that inspire us. This will be an art exhibition with works inspired by a location\, town\, city or place. Artists are invited to submit entries where a location\, town\, city\, or place served as inspiration for the work. The locations could include where you live or have visited or wish you have visited. \n\nFind out how to enter!
URL:https://www.visualartsociety.org/event/call-for-art/
CATEGORIES:calls for entry
ATTACH;FMTTYPE=image/jpeg:https://www.visualartsociety.org/wp-content/uploads/2023/01/3ea009928455b05ab3518ad1bea2fae7.jpeg
END:VEVENT
END:VCALENDAR