BEGIN:VCALENDAR
VERSION:2.0
PRODID:-//Visual Art Society Bryan-College Station - ECPv6.15.17.1//NONSGML v1.0//EN
CALSCALE:GREGORIAN
METHOD:PUBLISH
X-ORIGINAL-URL:https://www.visualartsociety.org
X-WR-CALDESC:Events for Visual Art Society Bryan-College Station
REFRESH-INTERVAL;VALUE=DURATION:PT1H
X-Robots-Tag:noindex
X-PUBLISHED-TTL:PT1H
BEGIN:VTIMEZONE
TZID:America/Chicago
BEGIN:DAYLIGHT
TZOFFSETFROM:-0600
TZOFFSETTO:-0500
TZNAME:CDT
DTSTART:20240310T080000
END:DAYLIGHT
BEGIN:STANDARD
TZOFFSETFROM:-0500
TZOFFSETTO:-0600
TZNAME:CST
DTSTART:20241103T070000
END:STANDARD
BEGIN:DAYLIGHT
TZOFFSETFROM:-0600
TZOFFSETTO:-0500
TZNAME:CDT
DTSTART:20250309T080000
END:DAYLIGHT
BEGIN:STANDARD
TZOFFSETFROM:-0500
TZOFFSETTO:-0600
TZNAME:CST
DTSTART:20251102T070000
END:STANDARD
BEGIN:DAYLIGHT
TZOFFSETFROM:-0600
TZOFFSETTO:-0500
TZNAME:CDT
DTSTART:20260308T080000
END:DAYLIGHT
BEGIN:STANDARD
TZOFFSETFROM:-0500
TZOFFSETTO:-0600
TZNAME:CST
DTSTART:20261101T070000
END:STANDARD
END:VTIMEZONE
BEGIN:VEVENT
DTSTART;TZID=America/Chicago:20250825T235800
DTEND;TZID=America/Chicago:20250825T235900
DTSTAMP:20260421T064911
CREATED:20250505T202353Z
LAST-MODIFIED:20250602T182443Z
UID:6359-1756166280-1756166340@www.visualartsociety.org
SUMMARY:Entry Deadline for 2025 VAS Fall Member Show - August 25
DESCRIPTION:Put August 25 on your calendar – it is the deadline for entering our member show that will run from September 5-26 at Degallery! The theme is “Ciaroscuro: The Interplay of Light and Shadow.” The call for art can be found HERE! \nVisual artists have been using the interplay of light and shadow for hundreds of years. One only needs to look at paintings by masters such as Vermeer\, da Vinci\, Goya\, Caravaggio\, Reubens\, Rembrandt\, or Raphael\, to see the power of this style to produce 3 dimensional forms and enhance the illusion of depth . Although chiaroscuro is usually interpreted as having very strong contrasts between light and shadow\, for this show\, artists are challenged to highlight the interplay more generally; examples could be the emphasis of rough textures\, using strongly contrasting colors\, or dark subjects against a light background (the reverse is equally valid). Show us how you use light and shadow to tell your story\, or direct the viewers’ attention. \nWe know many of our members are not familiar with chiaroscuro\, but it is a part of our VAS mission to help our members grow as artists. \nVisit our post for more information on chiaroscuro.
URL:https://www.visualartsociety.org/event/entry-deadline-for-2025-vas-fall-member-show-august-25/
LOCATION:Virtual
CATEGORIES:calls for entry,shows
ATTACH;FMTTYPE=image/jpeg:https://www.visualartsociety.org/wp-content/uploads/2025/05/Member-Show-2025-skinny-scaled.jpg
END:VEVENT
END:VCALENDAR