BEGIN:VCALENDAR
VERSION:2.0
PRODID:-//Visual Art Society Bryan-College Station - ECPv6.15.20//NONSGML v1.0//EN
CALSCALE:GREGORIAN
METHOD:PUBLISH
X-ORIGINAL-URL:https://www.visualartsociety.org
X-WR-CALDESC:Events for Visual Art Society Bryan-College Station
REFRESH-INTERVAL;VALUE=DURATION:PT1H
X-Robots-Tag:noindex
X-PUBLISHED-TTL:PT1H
BEGIN:VTIMEZONE
TZID:America/Chicago
BEGIN:DAYLIGHT
TZOFFSETFROM:-0600
TZOFFSETTO:-0500
TZNAME:CDT
DTSTART:20230312T080000
END:DAYLIGHT
BEGIN:STANDARD
TZOFFSETFROM:-0500
TZOFFSETTO:-0600
TZNAME:CST
DTSTART:20231105T070000
END:STANDARD
BEGIN:DAYLIGHT
TZOFFSETFROM:-0600
TZOFFSETTO:-0500
TZNAME:CDT
DTSTART:20240310T080000
END:DAYLIGHT
BEGIN:STANDARD
TZOFFSETFROM:-0500
TZOFFSETTO:-0600
TZNAME:CST
DTSTART:20241103T070000
END:STANDARD
BEGIN:DAYLIGHT
TZOFFSETFROM:-0600
TZOFFSETTO:-0500
TZNAME:CDT
DTSTART:20250309T080000
END:DAYLIGHT
BEGIN:STANDARD
TZOFFSETFROM:-0500
TZOFFSETTO:-0600
TZNAME:CST
DTSTART:20251102T070000
END:STANDARD
END:VTIMEZONE
BEGIN:VEVENT
DTSTART;TZID=America/Chicago:20240828T235800
DTEND;TZID=America/Chicago:20240828T235900
DTSTAMP:20260422T062109
CREATED:20240512T192332Z
LAST-MODIFIED:20240826T123644Z
UID:5160-1724889480-1724889540@www.visualartsociety.org
SUMMARY:"Our Stories" Member Show Entry Deadline: Extended to August 28\, 2024
DESCRIPTION:CALL FOR ENTRY DEADLINE – Extended to August 28\, 2024\nThe Visual Art Society of B-CS is calling all storytellers to enter our annual member show! “Our Stories: The Power to Connect” is your chance to showcase the unique perspective in your art.  We’re looking for paintings\, sculptures\, photographs – any medium that captures a part of your story.  The show runs September 6 – October 1\, 2024\, and is open to members only.  It is easy to become a member – join HERE.  There are lots of benefits! \nClick HERE to find details and enter.
URL:https://www.visualartsociety.org/event/our-stories-entry-deadline/
LOCATION:Virtual
CATEGORIES:calls for entry
ATTACH;FMTTYPE=image/jpeg:https://www.visualartsociety.org/wp-content/uploads/2024/05/Member-show-2024-schrunka-scaled.jpg
END:VEVENT
END:VCALENDAR