BEGIN:VCALENDAR
VERSION:2.0
PRODID:-//Visual Art Society Bryan-College Station - ECPv6.15.17.1//NONSGML v1.0//EN
CALSCALE:GREGORIAN
METHOD:PUBLISH
X-WR-CALNAME:Visual Art Society Bryan-College Station
X-ORIGINAL-URL:https://www.visualartsociety.org
X-WR-CALDESC:Events for Visual Art Society Bryan-College Station
REFRESH-INTERVAL;VALUE=DURATION:PT1H
X-Robots-Tag:noindex
X-PUBLISHED-TTL:PT1H
BEGIN:VTIMEZONE
TZID:America/Chicago
BEGIN:DAYLIGHT
TZOFFSETFROM:-0600
TZOFFSETTO:-0500
TZNAME:CDT
DTSTART:20250309T080000
END:DAYLIGHT
BEGIN:STANDARD
TZOFFSETFROM:-0500
TZOFFSETTO:-0600
TZNAME:CST
DTSTART:20251102T070000
END:STANDARD
BEGIN:DAYLIGHT
TZOFFSETFROM:-0600
TZOFFSETTO:-0500
TZNAME:CDT
DTSTART:20260308T080000
END:DAYLIGHT
BEGIN:STANDARD
TZOFFSETFROM:-0500
TZOFFSETTO:-0600
TZNAME:CST
DTSTART:20261101T070000
END:STANDARD
BEGIN:DAYLIGHT
TZOFFSETFROM:-0600
TZOFFSETTO:-0500
TZNAME:CDT
DTSTART:20270314T080000
END:DAYLIGHT
BEGIN:STANDARD
TZOFFSETFROM:-0500
TZOFFSETTO:-0600
TZNAME:CST
DTSTART:20271107T070000
END:STANDARD
END:VTIMEZONE
BEGIN:VEVENT
DTSTART;TZID=America/Chicago:20260328T080000
DTEND;TZID=America/Chicago:20260403T200000
DTSTAMP:20260421T010623
CREATED:20260118T231935Z
LAST-MODIFIED:20260119T191852Z
UID:7094-1774684800-1775246400@www.visualartsociety.org
SUMMARY:5th DEGART International Grand Art Event
DESCRIPTION:The DEGART International Grand Art Event is a week-long immersive art retreat hosted in Bryan\, Texas\, where creativity\, education\, and community come together. Organized by DEGALLERY and the DEGA International Art Association\, this event welcomes celebrated invited artists as well as visiting artists from around the world. \nRegistration Fee: \n\nMembers of DEGA International Art Association and VAS members($45)\nNon-members ($65)\n\nRegistration includes: \n\nParticipation in all DEGART events\, including Plein Air Week on private ranches\, businesses\, and country/cities sites\nWelcome\, Meet\, and Greet with wine and cheese.\nArt Show “Art and Body” and Auction  (1-7 artworks accepted)\nOpen Studio with Life Model\nFree admission for Lectures and Demo\nThe First Saturday Art Fair included 10’x10 individual vendor place\nThe Art Festival Community Painting Day free admission\n1 Ticket for GALA (April 5th)\n10% OFF for Workshops\n\nThroughout the retreat\, participants enjoy \n\nPlein-air (paint-out) sessions\nHands-on demonstrations\nSkill-building workshops\nOpen studios with live models and still life setups\nArtist talks\, meet-and-greets\, and community events\nInvited master artists lead teaching sessions\, while visiting artists paint\, learn\, collaborate\, and grow together in a supportive environment
URL:https://www.visualartsociety.org/event/5th-degart-international-grand-art-event/
LOCATION:DEGALLERY\, 930 N Rosemary Dr.\, Bryan\, TX\, 77802\, United States
ATTACH;FMTTYPE=image/webp:https://www.visualartsociety.org/wp-content/uploads/2025/12/DEGART-2026.webp
END:VEVENT
END:VCALENDAR